BEGIN:VCALENDAR
VERSION:2.0
PRODID:icalendar-ruby
CALSCALE:GREGORIAN
METHOD:PUBLISH
BEGIN:VEVENT
DTSTAMP:20260423T091129Z
UID:342-835117@delhifbc.com
DTSTART:20260425T220000Z
DTEND:20260502T210000Z
CLASS:PUBLIC
CREATED:20260422T131245
DESCRIPTION:
LAST-MODIFIED:20260422T131245
LOCATION:First Baptist Church Delhi
SUMMARY:Weekly Announcements
URL;VALUE=URI:https://delhifbc.com/events/weekly-announcements--342/2026-04
 -25
ATTACH;FILENAME=appweekly.png;FMTTYPE=image/png:https://dq5pwpg1q8ru0.cloud
 front.net/2026/04/22/18/12/44/e9799471-8007-4a32-8717-a9d40310270b/appweek
 ly.png
ATTACH;FILENAME=Announcements 4.26.26.pdf;FMTTYPE=application/pdf:https://d
 q5pwpg1q8ru0.cloudfront.net/2026/04/22/18/12/43/fd0324f1-7693-4e9b-9262-8d
 c015a0b2d8/Announcements%204.26.26.pdf
END:VEVENT
END:VCALENDAR
