BEGIN:VCALENDAR
VERSION:2.0
PRODID:icalendar-ruby
CALSCALE:GREGORIAN
METHOD:PUBLISH
BEGIN:VEVENT
DTSTAMP:20260425T145032Z
UID:34-843218@delhifbc.com
DTSTART:20260902T230000Z
DTEND:20260903T000000Z
CLASS:PUBLIC
CREATED:20260425T084851
DESCRIPTION:
LAST-MODIFIED:20260425T084851
LOCATION:First Baptist Church Delhi
SUMMARY:Midweek Worship
URL;VALUE=URI:https://delhifbc.com/events/midweek-worship/2026-09-02
ATTACH;FILENAME=Wed-PM.jpg;FMTTYPE=image/jpeg:https://dq5pwpg1q8ru0.cloudfr
 ont.net/2022/05/20/10/39/55/dfb5940a-9985-4e44-bc78-ba0f497fb8b0/Wed-PM.jp
 g
END:VEVENT
END:VCALENDAR
